BEGIN:VCALENDAR
VERSION:2.0
PRODID:-//SIMRI - ECPv6.11.2//NONSGML v1.0//EN
CALSCALE:GREGORIAN
METHOD:PUBLISH
X-WR-CALNAME:SIMRI
X-ORIGINAL-URL:https://www.simri.it
X-WR-CALDESC:Eventi per SIMRI
REFRESH-INTERVAL;VALUE=DURATION:PT1H
X-Robots-Tag:noindex
X-PUBLISHED-TTL:PT1H
BEGIN:VTIMEZONE
TZID:Europe/Helsinki
BEGIN:DAYLIGHT
TZOFFSETFROM:+0200
TZOFFSETTO:+0300
TZNAME:EEST
DTSTART:20250330T010000
END:DAYLIGHT
BEGIN:STANDARD
TZOFFSETFROM:+0300
TZOFFSETTO:+0200
TZNAME:EET
DTSTART:20251026T010000
END:STANDARD
END:VTIMEZONE
BEGIN:VEVENT
DTSTART;VALUE=DATE:20250506
DTEND;VALUE=DATE:20250507
DTSTAMP:20260420T140911
CREATED:20250417T085351Z
LAST-MODIFIED:20250526T154129Z
UID:12216-1746489600-1746575999@www.simri.it
SUMMARY:Giornata Mondiale dell’Asma – 6 maggio 2025
DESCRIPTION:Sin dal 1998 la Giornata Mondiale dell’Asma (World Asthma Day) si tiene tutti gli anni nel primo martedì di maggio su iniziativa della Global Initiative for Asthma (GINA) allo scopo di aumentare la conoscenza dell’asma e migliorarne il trattamento. \nQuest’anno il tema della giornata\, che cadrà il 6 maggio 2025\, sarà “Make Inhaled Treatments Accessible for ALL” (info: https://ginasthma.org/wad-2025/). \nAnche quest’anno la SIMRI intende dare risalto all’evento con un comunicato stampa dedicato e materiale informativo da distribuire.\nVisto il successo ottenuto nelle edizioni dello scorso anno\, è stata resa disponibile la lista dei centri di pneumologia pediatrica di tutto il territorio nazionale che aderiranno all’iniziativa\, offrendo spirometrie gratuite alla popolazione in una giornata nel corso del mese di maggio\, così come modalità e numero di accessi secondo le proprie disponibilità\, in accordo con le strutture ospedaliere. \nLe iniziative SIMRI per la Giornata Mondiale dell’Asma 2025 sono state realizzate in collaborazione con FederAsma e Allergie (federazione che raccoglie le associazioni dei pazienti asmatici\, www.federasmallergie.it)\, con l’associazione AsmAllergiaBimbi (www.asmallergiabimbi.it)\, con l’associazione Respiriamo Insieme (www.respiriamoinsieme.org/) e con la SIP (www.sip.it).\n\n\nPer scaricare la Brochure informativa clicca QUI\nPer visualizzare la lista dei centri del territorio aderenti all’iniziativa clicca QUI
URL:https://www.simri.it/evento/giornata-mondiale-dellasma-6-maggio-2025/
CATEGORIES:In Evidenza,NoIndex
ATTACH;FMTTYPE=image/jpeg:https://www.simri.it/wp-content/uploads/2025/04/GINA-WAD-2025-Social-Square-IG-600x600-1.jpg
END:VEVENT
END:VCALENDAR