BEGIN:VCALENDAR
VERSION:2.0
PRODID:-//SIMRI - ECPv6.11.2//NONSGML v1.0//EN
CALSCALE:GREGORIAN
METHOD:PUBLISH
X-WR-CALNAME:SIMRI
X-ORIGINAL-URL:https://www.simri.it
X-WR-CALDESC:Eventi per SIMRI
REFRESH-INTERVAL;VALUE=DURATION:PT1H
X-Robots-Tag:noindex
X-PUBLISHED-TTL:PT1H
BEGIN:VTIMEZONE
TZID:UTC
BEGIN:STANDARD
TZOFFSETFROM:+0000
TZOFFSETTO:+0000
TZNAME:UTC
DTSTART:20240101T000000
END:STANDARD
END:VTIMEZONE
BEGIN:VEVENT
DTSTART;TZID=UTC:20241108T080000
DTEND;TZID=UTC:20241109T170000
DTSTAMP:20260421T213102
CREATED:20240508T150422Z
LAST-MODIFIED:20241025T205025Z
UID:2224-1731052800-1731171600@www.simri.it
SUMMARY:Roma I Corso Teorico-Pratico di Ecografia Toracica e Polmonare - Point Of Care (POCUS)
DESCRIPTION:L’8-9 novembre 2024 si terrà a Roma il I Corso Teorico-Pratico di Ecografia Toracica e Polmonare – Point Of Care (POCUS).\n\n\nL’ evento verrà inserito tra i programmi nazionali di Educazione Continua in Medicina (E.C.M.) per la professione Medico Chirurgo con le seguenti specializzazioni: Allergologia ed Immunologia Clinica\, Malattie dell’Apparato Respiratorio\, Medicina Fisica e Riabilitazione\, Medicina Generale\, Medicina Interna\, Neonatologia\, Otorinolaringoiatria\, Pediatria\, Pediatria di Libera Scelta. \nScarica il Programma Preliminare \nPer registrarti clicca QUI
URL:https://www.simri.it/evento/i-corso-teorico-pratico-di-ecografia-toracica-e-polmonare-point-of-care-pocus/
LOCATION:Roma
CATEGORIES:Corsi SIMRI,Eventi ECM,In Evidenza,NoIndex
ATTACH;FMTTYPE=image/jpeg:https://www.simri.it/wp-content/uploads/2024/05/ecografia-toracica-e-polmonare-locandina.jpg
END:VEVENT
END:VCALENDAR