BEGIN:VCALENDAR
VERSION:2.0
PRODID:-//SIMRI - ECPv6.11.2//NONSGML v1.0//EN
CALSCALE:GREGORIAN
METHOD:PUBLISH
X-WR-CALNAME:SIMRI
X-ORIGINAL-URL:https://www.simri.it
X-WR-CALDESC:Eventi per SIMRI
REFRESH-INTERVAL;VALUE=DURATION:PT1H
X-Robots-Tag:noindex
X-PUBLISHED-TTL:PT1H
BEGIN:VTIMEZONE
TZID:Europe/Helsinki
BEGIN:DAYLIGHT
TZOFFSETFROM:+0200
TZOFFSETTO:+0300
TZNAME:EEST
DTSTART:20250330T010000
END:DAYLIGHT
BEGIN:STANDARD
TZOFFSETFROM:+0300
TZOFFSETTO:+0200
TZNAME:EET
DTSTART:20251026T010000
END:STANDARD
END:VTIMEZONE
BEGIN:VEVENT
DTSTART;TZID=Europe/Helsinki:20250620T140000
DTEND;TZID=Europe/Helsinki:20250621T163000
DTSTAMP:20260421T135311
CREATED:20241121T154044Z
LAST-MODIFIED:20250404T101853Z
UID:10320-1750428000-1750523400@www.simri.it
SUMMARY:II Corso Teorico-Pratico di insufficienza respiratoria\, ossigenoterapia e utilizzo della CPAP in età pediatrica
DESCRIPTION:Il 20-21 giugno 2025 si terrà a Napoli il II Corso Teorico-Pratico di insufficienza respiratoria\, ossigenoterapia e utilizzo della CPAP in età pediatrica\n  \nL’ evento verrà inserito tra i programmi nazionali di Educazione Continua in Medicina (E.C.M.) per la professione di Infermiere\, Infermiere Pediatrico\, Fisioterapista e Medico Chirurgo con le seguenti specializzazioni: Allergologia ed Immunologia Clinica\, Malattie dell’Apparato Respiratorio\, Medicina Fisica e Riabilitazione\, Medicina generale\, Medicina Interna\, Otorinolaringoiatria\, Pediatria e Pediatria di Libera Scelta. \nPer maggiori informazioni scarica il Programma preliminare \nPer iscriverti clicca QUI
URL:https://www.simri.it/evento/ii-corso-teorico-pratico-di-insufficienza-respiratoria-ossigenoterapia-e-utilizzo-della-cpap-in-eta-pediatrica/
LOCATION:NAPOLI
CATEGORIES:Corsi SIMRI,Eventi ECM,In Evidenza,NoIndex
ATTACH;FMTTYPE=image/jpeg:https://www.simri.it/wp-content/uploads/2025/01/C25-071_400x350-Napoli.jpg
END:VEVENT
END:VCALENDAR