BEGIN:VCALENDAR
VERSION:2.0
PRODID:-//SIMRI - ECPv6.11.2//NONSGML v1.0//EN
CALSCALE:GREGORIAN
METHOD:PUBLISH
X-WR-CALNAME:SIMRI
X-ORIGINAL-URL:https://www.simri.it
X-WR-CALDESC:Eventi per SIMRI
REFRESH-INTERVAL;VALUE=DURATION:PT1H
X-Robots-Tag:noindex
X-PUBLISHED-TTL:PT1H
BEGIN:VTIMEZONE
TZID:Europe/Helsinki
BEGIN:DAYLIGHT
TZOFFSETFROM:+0200
TZOFFSETTO:+0300
TZNAME:EEST
DTSTART:20260329T010000
END:DAYLIGHT
BEGIN:STANDARD
TZOFFSETFROM:+0300
TZOFFSETTO:+0200
TZNAME:EET
DTSTART:20261025T010000
END:STANDARD
END:VTIMEZONE
BEGIN:VEVENT
DTSTART;TZID=Europe/Helsinki:20260420T150923
DTEND;TZID=Europe/Helsinki:20260420T150923
DTSTAMP:20260420T160923
CREATED:20241121T090544Z
LAST-MODIFIED:20250424T131239Z
UID:8835-1776697763-1776697763@www.simri.it
SUMMARY:3° Congresso INSPIRED - International Society of Pediatric Respiratory Disease. Barcellona\, 26-29 giugno 2025
DESCRIPTION:Si terrà a Barcellona il 26-29 giugno 2025 il 3° Congresso INSPIRED – International Society of Pediatric Respiratory Disease. \nSi invitano ricercatori\, medici e operatori sanitari a presentare i loro abstract per essere presi in considerazione e contribuire al futuro dell’assistenza respiratoria in pediatria\, ottenere un riconoscimento e fare rete con gli esperti del settore. \nPer maggiori informazioni visita il sito
URL:https://www.simri.it/evento/inspired-barcellona-2025/
CATEGORIES:Altri Eventi
ATTACH;FMTTYPE=image/png:https://www.simri.it/wp-content/uploads/2024/12/inspired.png
END:VEVENT
END:VCALENDAR