BEGIN:VCALENDAR
VERSION:2.0
PRODID:-//SIMRI - ECPv6.11.2//NONSGML v1.0//EN
CALSCALE:GREGORIAN
METHOD:PUBLISH
X-WR-CALNAME:SIMRI
X-ORIGINAL-URL:https://www.simri.it
X-WR-CALDESC:Eventi per SIMRI
REFRESH-INTERVAL;VALUE=DURATION:PT1H
X-Robots-Tag:noindex
X-PUBLISHED-TTL:PT1H
BEGIN:VTIMEZONE
TZID:Europe/Helsinki
BEGIN:DAYLIGHT
TZOFFSETFROM:+0200
TZOFFSETTO:+0300
TZNAME:EEST
DTSTART:20250330T010000
END:DAYLIGHT
BEGIN:STANDARD
TZOFFSETFROM:+0300
TZOFFSETTO:+0200
TZNAME:EET
DTSTART:20251026T010000
END:STANDARD
END:VTIMEZONE
BEGIN:VEVENT
DTSTART;TZID=Europe/Helsinki:20251004T083000
DTEND;TZID=Europe/Helsinki:20251004T163000
DTSTAMP:20260420T161203
CREATED:20250321T112006Z
LAST-MODIFIED:20250321T112006Z
UID:11612-1759566600-1759595400@www.simri.it
SUMMARY:Infezioni respiratorie ricorrenti: diagnosi e terapia- Milano\, 4 ottobre 2025
DESCRIPTION:Il 4 ottobre 2025 si terrà a Milano l’evento Infezioni respiratorie ricorrenti: diagnosi e terapia. \nECM\nL’evento verrà inserito nel programma nazionale di Educazione Continua in Medicina (ECM) per la professione di Medico Chirurgo con le seguenti discipline: Allergologia e Immunologia Clinica\, Malattie dell’apparato Respiratorio\, Medicina Generale (Medici di Famiglia)\, Pediatria\, Pediatria (Pediatri di Libera Scelta). \nISCRIZIONE\nL’iscrizione è gratuita. Per maggiori informazioni visita il SITO WEB
URL:https://www.simri.it/evento/irr-milano-2025/
LOCATION:milano
CATEGORIES:Altri Eventi
ATTACH;FMTTYPE=image/jpeg:https://www.simri.it/wp-content/uploads/2025/03/25_091_400x350.jpg
END:VEVENT
END:VCALENDAR