BEGIN:VCALENDAR
VERSION:2.0
PRODID:-//SIMRI - ECPv6.11.2//NONSGML v1.0//EN
CALSCALE:GREGORIAN
METHOD:PUBLISH
X-WR-CALNAME:SIMRI
X-ORIGINAL-URL:https://www.simri.it
X-WR-CALDESC:Eventi per SIMRI
REFRESH-INTERVAL;VALUE=DURATION:PT1H
X-Robots-Tag:noindex
X-PUBLISHED-TTL:PT1H
BEGIN:VTIMEZONE
TZID:Europe/Helsinki
BEGIN:DAYLIGHT
TZOFFSETFROM:+0200
TZOFFSETTO:+0300
TZNAME:EEST
DTSTART:20250330T010000
END:DAYLIGHT
BEGIN:STANDARD
TZOFFSETFROM:+0300
TZOFFSETTO:+0200
TZNAME:EET
DTSTART:20251026T010000
END:STANDARD
END:VTIMEZONE
BEGIN:VEVENT
DTSTART;TZID=Europe/Helsinki:20251010T000000
DTEND;TZID=Europe/Helsinki:20251011T000000
DTSTAMP:20260420T161559
CREATED:20250228T103020Z
LAST-MODIFIED:20250228T103020Z
UID:11245-1760054400-1760140800@www.simri.it
SUMMARY:Opinioni a Confronto. Aggiornamento continuo in pediatria - Pavia\, 10-11 ottobre 2025
DESCRIPTION:Si terrà a Pavia il 10-11 ottobre 2025 l’evento Opinioni a confronto. Aggiornamento continuo in pediatria – 26° Edizione. \nL’evento rappresenta un momento di incontro costruito per discutere e per aggiornarsi sulle problematiche più “calde” e nuove nel campo della Pediatria. \nPer maggiori informazioni scarica il PROGRAMMA
URL:https://www.simri.it/evento/opinioni-a-confronto-2025/
CATEGORIES:Altri Eventi
ATTACH;FMTTYPE=image/png:https://www.simri.it/wp-content/uploads/2025/02/opi.png
END:VEVENT
END:VCALENDAR