BEGIN:VCALENDAR
VERSION:2.0
PRODID:-//SIMRI - ECPv6.11.2//NONSGML v1.0//EN
CALSCALE:GREGORIAN
METHOD:PUBLISH
X-WR-CALNAME:SIMRI
X-ORIGINAL-URL:https://www.simri.it
X-WR-CALDESC:Eventi per SIMRI
REFRESH-INTERVAL;VALUE=DURATION:PT1H
X-Robots-Tag:noindex
X-PUBLISHED-TTL:PT1H
BEGIN:VTIMEZONE
TZID:Europe/Helsinki
BEGIN:DAYLIGHT
TZOFFSETFROM:+0200
TZOFFSETTO:+0300
TZNAME:EEST
DTSTART:20250330T010000
END:DAYLIGHT
BEGIN:STANDARD
TZOFFSETFROM:+0300
TZOFFSETTO:+0200
TZNAME:EET
DTSTART:20251026T010000
END:STANDARD
END:VTIMEZONE
BEGIN:VEVENT
DTSTART;TZID=Europe/Helsinki:20250218T160000
DTEND;TZID=Europe/Helsinki:20250218T183000
DTSTAMP:20260421T151951
CREATED:20250117T151508Z
LAST-MODIFIED:20250224T113115Z
UID:10596-1739894400-1739903400@www.simri.it
SUMMARY:2° Webinar Progetto GINA Italia - 18 febbraio 2025
DESCRIPTION:Martedì 18 febbraio 2025\, dalle ore 16.00 alle 18.30\, si terrà il 2° Webinar GINA Italia\nIl webinar si propone quindi di alimentare la condivisione e la divulgazione sia tra i componenti del gruppo GINA Italia che tra la comunità scientifica italiana\, dei principali aspetti relativi alla diagnosi e valutazione dell’asma\, la terapia dell’asma nell’adulto/adolescente e bambino\, l’educazione del paziente e la prevenzione della malattia. \n\n\nPer iscriverti e scaricare il programma CLICCA QUI \n 
URL:https://www.simri.it/evento/progetto-gina-italia-2025/
CATEGORIES:Altri Eventi,In Evidenza,NoIndex,Webinar
ATTACH;FMTTYPE=image/png:https://www.simri.it/wp-content/uploads/2024/10/gina.png
END:VEVENT
END:VCALENDAR