BEGIN:VCALENDAR
VERSION:2.0
PRODID:-//SIMRI - ECPv6.11.2//NONSGML v1.0//EN
CALSCALE:GREGORIAN
METHOD:PUBLISH
X-WR-CALNAME:SIMRI
X-ORIGINAL-URL:https://www.simri.it
X-WR-CALDESC:Eventi per SIMRI
REFRESH-INTERVAL;VALUE=DURATION:PT1H
X-Robots-Tag:noindex
X-PUBLISHED-TTL:PT1H
BEGIN:VTIMEZONE
TZID:UTC
BEGIN:STANDARD
TZOFFSETFROM:+0000
TZOFFSETTO:+0000
TZNAME:UTC
DTSTART:20240101T000000
END:STANDARD
END:VTIMEZONE
BEGIN:VEVENT
DTSTART;VALUE=DATE:20241220
DTEND;VALUE=DATE:20241221
DTSTAMP:20260421T151235
CREATED:20241122T110832Z
LAST-MODIFIED:20241128T134847Z
UID:2573-1734652800-1734739199@www.simri.it
SUMMARY:Task Force SIMRI 2025 Scadenza 20 Dicembre 2024
DESCRIPTION:Per l’anno 2025 la SIMRI promuove l’organizzazione di Nr. 1 Task Force con lo scopo di realizzare documenti di consenso\, statements\, position papers\, raccomandazioni o linee guida su specifici argomenti di ambito pneumologico pediatrico. \n\n\nLe domande per l’attivazione di Task Force SIMRI dovranno essere inviate all’indirizzo email segreteria@simri.it entro il 20 dicembre 2024 da due proponenti\, di cui almeno uno iscritto alla SIMRI e in regola con la quota di iscrizione\, che ricoprirà il ruolo di responsabile della Task Force. \nPer maggiori informazioni e scaricare il modulo di richiesta scarica il Bando Task Force
URL:https://www.simri.it/evento/task-force-simri-2025/
ATTACH;FMTTYPE=image/jpeg:https://www.simri.it/wp-content/uploads/2024/05/task-force-simri.jpg
END:VEVENT
END:VCALENDAR