BEGIN:VCALENDAR
VERSION:2.0
PRODID:-//SIMRI - ECPv6.11.2//NONSGML v1.0//EN
CALSCALE:GREGORIAN
METHOD:PUBLISH
X-WR-CALNAME:SIMRI
X-ORIGINAL-URL:https://www.simri.it
X-WR-CALDESC:Eventi per SIMRI
REFRESH-INTERVAL;VALUE=DURATION:PT1H
X-Robots-Tag:noindex
X-PUBLISHED-TTL:PT1H
BEGIN:VTIMEZONE
TZID:Europe/Helsinki
BEGIN:DAYLIGHT
TZOFFSETFROM:+0200
TZOFFSETTO:+0300
TZNAME:EEST
DTSTART:20240331T010000
END:DAYLIGHT
BEGIN:STANDARD
TZOFFSETFROM:+0300
TZOFFSETTO:+0200
TZNAME:EET
DTSTART:20241027T010000
END:STANDARD
END:VTIMEZONE
BEGIN:VEVENT
DTSTART;VALUE=DATE:20240910
DTEND;VALUE=DATE:20240911
DTSTAMP:20260421T003829
CREATED:20240822T083210Z
LAST-MODIFIED:20241025T205357Z
UID:5771-1725926400-1726012799@www.simri.it
SUMMARY:VIRTUAL INTERNATIONAL PEDIATRIC PULMONOLOGY RESEARCH ACADEMY-VIPPRA 2024/2025
DESCRIPTION:VIPPRA è un corso virtuale interattivo che aiuta i ricercatori internazionali in pneumologia pediatrica e gli studenti all’inizio della loro carriera interessati alla salute polmonare pediatrica ad apprendere e applicare metodi di ricerca scientifica. \nI partecipanti apprenderanno i fondamenti dello sviluppo di una domanda di ricerca\, vari progetti di studio scientifico\, gli elementi di base del manuale delle procedure e svilupperanno competenze biostatistiche di base.  \nQuesto corso interattivo è progettato per avere due componenti principali; \n\nseminari online tenuti dai docenti sui metodi di ricerca ogni due settimane: il programma di questo seminario è allegato come tabella alla fine del documento. Questi seminari saranno interattivi e agli studenti verrà inviato materiale di lettura prima del giorno del seminario. Questi seminari si terranno tramite la piattaforma Zoom.\nlavoro pratico con un mentore per sviluppare un protocollo di ricerca e un manuale di procedure pronto per essere sottoposto all’approvazione del comitato di revisione istituzionale. Le coppie mentore-studente devono contattarsi almeno una volta tra i due orari del seminario online\, via e-mail o tramite zoom\, per completare la parte del protocollo coperta dal seminario.\n\nLa deadline per inviare la propria candidatura al corso VIPPRA è fissata al 10 settembre p.v. \nPer maggiori informazioni e per inviare la propria candidatura clicca QUI
URL:https://www.simri.it/evento/virtual-international-pediatric-pulmonology-research-academy-vippra-2024-2025/
CATEGORIES:Bandi Attivi,In Evidenza,NoIndex
ATTACH;FMTTYPE=image/jpeg:https://www.simri.it/wp-content/uploads/2024/08/VIPPRA-IG-1080x1080-24.jpg
END:VEVENT
END:VCALENDAR