BEGIN:VCALENDAR
VERSION:2.0
PRODID:-//SIMRI - ECPv6.11.2//NONSGML v1.0//EN
CALSCALE:GREGORIAN
METHOD:PUBLISH
X-WR-CALNAME:SIMRI
X-ORIGINAL-URL:https://www.simri.it
X-WR-CALDESC:Eventi per SIMRI
REFRESH-INTERVAL;VALUE=DURATION:PT1H
X-Robots-Tag:noindex
X-PUBLISHED-TTL:PT1H
BEGIN:VTIMEZONE
TZID:Europe/Helsinki
BEGIN:DAYLIGHT
TZOFFSETFROM:+0200
TZOFFSETTO:+0300
TZNAME:EEST
DTSTART:20250330T010000
END:DAYLIGHT
BEGIN:STANDARD
TZOFFSETFROM:+0300
TZOFFSETTO:+0200
TZNAME:EET
DTSTART:20251026T010000
END:STANDARD
END:VTIMEZONE
BEGIN:VEVENT
DTSTART;TZID=Europe/Helsinki:20250626T150000
DTEND;TZID=Europe/Helsinki:20250626T160000
DTSTAMP:20260420T143822
CREATED:20250613T073652Z
LAST-MODIFIED:20250613T073652Z
UID:13035-1750950000-1750953600@www.simri.it
SUMMARY:Webinar Intensive Care: All Ado About Little? - ATS International Health Committee (IHC)
DESCRIPTION:Giovedì 26 giugno 2025 ore 15:00 (ora italiana) si terrà il Webinar “Intensive Care: All Ado About Little?” dell’ATS International Health Committee (IHC).\n \nQuesta sessione interattiva esplorerà i dilemmi etici in terapia intensiva utilizzando un caso di studio. I relatori esperti guideranno i partecipanti attraverso i punti critici di decisione\, riflettendo sul fatto che la disponibilità di tecnologia implica sempre il suo utilizzo. Gli argomenti trattati comprendono gli obiettivi terapeutici\, le indicazioni mediche e il modo in cui le decisioni di cura si allineano con i valori del paziente e le realtà cliniche. \nIl caso di studio sarà condiviso all’inizio della sessione per facilitare una discussione coinvolgente. \nPer iscriverti al webinar clicca QUI
URL:https://www.simri.it/evento/webinar-ats-ihc/
CATEGORIES:Altri Eventi,In Evidenza,Webinar
ATTACH;FMTTYPE=image/png:https://www.simri.it/wp-content/uploads/2025/06/ats.png
END:VEVENT
END:VCALENDAR