BEGIN:VCALENDAR
VERSION:2.0
PRODID:-//SIMRI - ECPv6.11.2//NONSGML v1.0//EN
CALSCALE:GREGORIAN
METHOD:PUBLISH
X-WR-CALNAME:SIMRI
X-ORIGINAL-URL:https://www.simri.it
X-WR-CALDESC:Eventi per SIMRI
REFRESH-INTERVAL;VALUE=DURATION:PT1H
X-Robots-Tag:noindex
X-PUBLISHED-TTL:PT1H
BEGIN:VTIMEZONE
TZID:Europe/Helsinki
BEGIN:DAYLIGHT
TZOFFSETFROM:+0200
TZOFFSETTO:+0300
TZNAME:EEST
DTSTART:20250330T010000
END:DAYLIGHT
BEGIN:STANDARD
TZOFFSETFROM:+0300
TZOFFSETTO:+0200
TZNAME:EET
DTSTART:20251026T010000
END:STANDARD
END:VTIMEZONE
BEGIN:VEVENT
DTSTART;TZID=Europe/Helsinki:20250624T170000
DTEND;TZID=Europe/Helsinki:20250624T183000
DTSTAMP:20260421T083327
CREATED:20250430T160243Z
LAST-MODIFIED:20250430T160243Z
UID:12358-1750784400-1750789800@www.simri.it
SUMMARY:Webinar SIMRI Innovazioni Digitali nella Medicina Respiratoria Pediatrica: prospettive e applicazioni pratiche
DESCRIPTION:Per il ciclo di Webinar SIMRI\, il 24 giugno 2025 dalle ore 17.00 alle 18.30\, il Gruppo di Studio “Tecnologie digitali e innovative per l’assistenza respiratoria pediatrica” organizza il Webinar “Innovazioni Digitali nella Medicina Respiratoria Pediatrica: prospettive e applicazioni pratiche”.\nL’ evento è stato inserito tra i programmi nazionali di Educazione Continua in Medicina (E.C.M.) con 1\,5 crediti formativi per la professione di Infermiere\, Infermiere Pediatrico\, Fisioterapista e Medico Chirurgo con le seguenti specializzazioni: Allergologia e Immunologia Clinica\, Malattie dell’Apparato Respiratorio\, Pediatria\, Pediatria di Libera Scelta. \n\n\nPer iscriverti clicca QUI \nSCARICA IL PROGRAMMA
URL:https://www.simri.it/evento/webinar-innovazioni-digitali-2025/
CATEGORIES:Eventi ECM,In Evidenza,NoIndex,Webinar
ATTACH;FMTTYPE=image/jpeg:https://www.simri.it/wp-content/uploads/2025/04/C25-53_400x350.jpg
END:VEVENT
END:VCALENDAR