BEGIN:VCALENDAR
VERSION:2.0
PRODID:-//SIMRI - ECPv6.11.2//NONSGML v1.0//EN
CALSCALE:GREGORIAN
METHOD:PUBLISH
X-WR-CALNAME:SIMRI
X-ORIGINAL-URL:https://www.simri.it
X-WR-CALDESC:Eventi per SIMRI
REFRESH-INTERVAL;VALUE=DURATION:PT1H
X-Robots-Tag:noindex
X-PUBLISHED-TTL:PT1H
BEGIN:VTIMEZONE
TZID:UTC
BEGIN:STANDARD
TZOFFSETFROM:+0000
TZOFFSETTO:+0000
TZNAME:UTC
DTSTART:20240101T000000
END:STANDARD
END:VTIMEZONE
BEGIN:VEVENT
DTSTART;TZID=UTC:20240618T160000
DTEND;TZID=UTC:20240618T183000
DTSTAMP:20260420T231210
CREATED:20240508T152210Z
LAST-MODIFIED:20241025T205522Z
UID:1945-1718726400-1718735400@www.simri.it
SUMMARY:Webinar L'Asma Grave: Viaggio nell'Età' Pediatrica\, dal Bambino al Giovane Adulto
DESCRIPTION:Martedì 18 giugno è previsto p.v. il Webinar SIMRI L’Asma grave: viaggio nell’età pediatrica\, dal bambino al giovane adulto\, del Gruppo di Studio SIMRI Asma grave: database\, ricerca\, formazione coordinato dalla Prof.ssa Silvia Carraro.\nRegistrazione • L’iscrizione è gratuita ed include la partecipazione al Webinar\, l’attestato di partecipazione e l’attestato ECM (agli aventi diritto). Gli interessati dovranno registrarsi sulla piattaforma FAD https://www.centercongressifad.com \nDestinatari del programma formativo • L’evento è stato inserito nel programma nazionale di Educazione Continua in Medicina (ECM) e prevede l’acquisizione di 3 crediti formativiper la professione di Infermiere\, Infermiere Pediatrico\, Fisioterapista e Medico Chirurgo con le seguenti specializzazioni: Allergologia e Immunologia Clinica\, Malattie dell’Apparato Respiratorio\, Pediatria\, Pediatria di Libera Scelta \n  \nIl Programma del Webinar_SIMRI_GdSAsma_Grave_2024
URL:https://www.simri.it/evento/webinar-lasma-grave-viaggio-nelleta-pediatrica-dal-bambino-al-giovane-adulto/
CATEGORIES:NoIndex,Webinar
ATTACH;FMTTYPE=image/jpeg:https://www.simri.it/wp-content/uploads/2024/05/Webinar_SIMRI_GdSAsma_Grave_2024.pdf.jpg
END:VEVENT
END:VCALENDAR