BEGIN:VCALENDAR
VERSION:2.0
PRODID:-//SIMRI - ECPv6.11.2//NONSGML v1.0//EN
CALSCALE:GREGORIAN
METHOD:PUBLISH
X-WR-CALNAME:SIMRI
X-ORIGINAL-URL:https://www.simri.it
X-WR-CALDESC:Eventi per SIMRI
REFRESH-INTERVAL;VALUE=DURATION:PT1H
X-Robots-Tag:noindex
X-PUBLISHED-TTL:PT1H
BEGIN:VTIMEZONE
TZID:UTC
BEGIN:STANDARD
TZOFFSETFROM:+0000
TZOFFSETTO:+0000
TZNAME:UTC
DTSTART:20240101T000000
END:STANDARD
END:VTIMEZONE
BEGIN:VEVENT
DTSTART;TZID=UTC:20240917T170000
DTEND;TZID=UTC:20240917T183000
DTSTAMP:20260421T074948
CREATED:20240508T154408Z
LAST-MODIFIED:20241025T205328Z
UID:2261-1726592400-1726597800@www.simri.it
SUMMARY:Webinar SIMRI Le infezioni respiratorie ricorrenti
DESCRIPTION:Per il ciclo di Webinar SIMRI\, il quarto appuntamento si terrà martedì 17 settembre 2024 dalle ore 17:00 alle 18:30 e si discuterà su LE INFEZIONI RESPIRATORIE RICORRENTI\nL’ evento è stato inserito tra i programmi nazionali di Educazione Continua in Medicina (E.C.M.) con 1\,5 crediti formativi per la professione di Infermiere\, Infermiere Pediatrico\, Fisioterapista e Medico Chirurgo con le seguenti specializzazioni: Allergologia e Immunologia Clinica\, Malattie dell’Apparato Respiratorio\, Pediatria\, Pediatria di Libera Scelta \n\nScarica il programma dell’evento QUI\n\nPer registrarti clicca QUI
URL:https://www.simri.it/evento/webinar-le-infezioni-respiratorie-ricorrenti/
CATEGORIES:Eventi ECM,In Evidenza,NoIndex,Webinar
ATTACH;FMTTYPE=image/jpeg:https://www.simri.it/wp-content/uploads/2024/05/infezioni-respiratorie-ricorrenti.jpg
END:VEVENT
END:VCALENDAR